BEGIN:VCALENDAR
VERSION:2.0
PRODID:-//MasseryPT LLC - ECPv6.15.18//NONSGML v1.0//EN
CALSCALE:GREGORIAN
METHOD:PUBLISH
X-ORIGINAL-URL:https://masserypt.com
X-WR-CALDESC:Events for MasseryPT LLC
REFRESH-INTERVAL;VALUE=DURATION:PT1H
X-Robots-Tag:noindex
X-PUBLISHED-TTL:PT1H
BEGIN:VTIMEZONE
TZID:UTC
BEGIN:STANDARD
TZOFFSETFROM:+0000
TZOFFSETTO:+0000
TZNAME:UTC
DTSTART:20210101T000000
END:STANDARD
END:VTIMEZONE
BEGIN:VEVENT
DTSTART;VALUE=DATE:20220303
DTEND;VALUE=DATE:20220304
DTSTAMP:20260425T195946
CREATED:20211015T212129Z
LAST-MODIFIED:20211026T212019Z
UID:10323-1646265600-1646351999@masserypt.com
SUMMARY:COVID 19 Long-haulers: potential long-term physical problems
DESCRIPTION:Instructor: Mary Massery\, PT\, DPT\, DSc \nAudience: PT\, OT & SLP \nHost: Providence Health and Services \nContact: JoAnna Mullett\, MSPT\, CSCS \nEmail: mailto:Joanna.Mullett@providence.org \nCourse info & registration: https://providence.gnosisconnect.com/cart/descriptionbeforelogin.php?course=72686E2E-EA1C-4564-9AD8-9ECEC411731F
URL:https://masserypt.com/course/covid-providence-portland-march-2022/
LOCATION:Providence Health and Services\, Portland\, Oregon
CATEGORIES:Courses
ORGANIZER;CN="JoAnna Mullett%2C MSPT%2C CSCS":MAILTO:Joanna.Mullett@providence.org
END:VEVENT
BEGIN:VEVENT
DTSTART;VALUE=DATE:20220311
DTEND;VALUE=DATE:20220313
DTSTAMP:20260425T195946
CREATED:20211207T215107Z
LAST-MODIFIED:20211207T223251Z
UID:10407-1646956800-1647129599@masserypt.com
SUMMARY:LINKED: Breathing & Postural Control – PART 1
DESCRIPTION:Day-1 Live Interactive ONLINE version of Mary Massery’s 3-day LINKED (Breathing) Course: presented in two half-days \nInstructor:  Mary Massery & faculty \nAudience: PT\, OT & SLP \n8.0-hours general lifespan course \nContact: Molly or Juliet \nEmail: mailto:rehabce@fairview.org \nRegistration info & link to registration: https://fai.memberclicks.net/rehab–mary-massery-linked–breathing-and-postural-control-zoom-course
URL:https://masserypt.com/course/fairview-linked-march-2022/
LOCATION:Fairview Rehabilitation Services Continuing Education\, Minneapolis\, MN\, United States
CATEGORIES:Courses
ORGANIZER;CN="Juliet or Molly":MAILTO:rehabce@fairview.org
END:VEVENT
BEGIN:VEVENT
DTSTART;VALUE=DATE:20220325
DTEND;VALUE=DATE:20220328
DTSTAMP:20260425T195946
CREATED:20210204T214847Z
LAST-MODIFIED:20220320T185921Z
UID:9997-1648166400-1648425599@masserypt.com
SUMMARY:I SURVIVED\, NOW WHAT? >> COURSE CANCELLED BY HOST
DESCRIPTION:Instructor:  Mary Massery & faculty \n\n\nAudience: PT & OT \n3-day general lifespan lab course \nContact: Elizabeth Utsch George \nThe Children’s Hospital of Philadelphia \nEmail:mailto:utsch@chop.edu \nCourse registration: https://chop.cloud-cme.com/course/courseoverview?P=5&EID=3202 \n 
URL:https://masserypt.com/course/i-survived-chop-march-2022/
LOCATION:The Children’s Hospital of Philadelphia\, Philadelphia\, PA
CATEGORIES:Courses
ORGANIZER;CN="Elizabeth Utsch George":MAILTO:CMEOffice@chop.edu
END:VEVENT
END:VCALENDAR