BEGIN:VCALENDAR
VERSION:2.0
PRODID:-//MasseryPT LLC - ECPv6.15.18//NONSGML v1.0//EN
CALSCALE:GREGORIAN
METHOD:PUBLISH
X-ORIGINAL-URL:https://masserypt.com
X-WR-CALDESC:Events for MasseryPT LLC
REFRESH-INTERVAL;VALUE=DURATION:PT1H
X-Robots-Tag:noindex
X-PUBLISHED-TTL:PT1H
BEGIN:VTIMEZONE
TZID:UTC
BEGIN:STANDARD
TZOFFSETFROM:+0000
TZOFFSETTO:+0000
TZNAME:UTC
DTSTART:20210101T000000
END:STANDARD
END:VTIMEZONE
BEGIN:VEVENT
DTSTART;VALUE=DATE:20220402
DTEND;VALUE=DATE:20220404
DTSTAMP:20260425T181523
CREATED:20210924T144050Z
LAST-MODIFIED:20220321T153610Z
UID:10290-1648857600-1649030399@masserypt.com
SUMMARY:LINKED: Breathing & Postural Control – PART 2
DESCRIPTION:Instructor: Mary Massery\, PT\, DPT\, DSc \nAudience: PT\, OT & SLP \n2-day hands-on LAB DAYS of the 3-day breathing course \nPrerequisite:  PART-1 Attendance at either of these courses (in past 24 months) qualifies as a pre-req: “Day-1 of Mary’s 3-Day Breathing Course” or “Linked: Breathing and Postural Control-PART 1” \nContact: Jill Wentworth \nEmail: mailto:Jill.Wentworth@bellin.org \nCourse registration form: Green Bay\, WI. Bellin Health. mm LINKED Part-2 outside registration form (rev1)
URL:https://masserypt.com/course/breathing-course-part-2-green-bay/
LOCATION:Bellin Health Titletown Sports Medicine and Orthopedics\, 1970 S. Ridge Rd.\, Green Bay\, WI
CATEGORIES:Courses
ORGANIZER;CN="Jill Wentworth":MAILTO:Jill.Wentworth@bellin.org
END:VEVENT
BEGIN:VEVENT
DTSTART;VALUE=DATE:20220407
DTEND;VALUE=DATE:20220408
DTSTAMP:20260425T181523
CREATED:20220210T172300Z
LAST-MODIFIED:20220301T170136Z
UID:10467-1649289600-1649375999@masserypt.com
SUMMARY:COVID 19 Long-haulers: potential long-term physical problems
DESCRIPTION:Instructor: Mary Massery\, PT\, DPT\, DSc \nAudience: PT\, OT & SLP \nHost: HMH JFK Johnson Rehabilitation Institute \nContact: Kathleen DeCamp \nEmail: mailto:kathleen.decamp@hmhn.org \nCourse info & registration: Summary – COVID-19 Long-Haulers: Potential Long-Term Physical Problems April 7\, 2022 – 6:30-9:00pm EST (hackensackmeridianhealth.org)
URL:https://masserypt.com/course/covid-jfk-april-2022/
LOCATION:HMH JFK Johnson Rehabilitation Institute\, Edison\, NJ
CATEGORIES:Courses
ORGANIZER;CN="Kathleen DeCamp":MAILTO:kathleen.decamp@hmhn.org
END:VEVENT
BEGIN:VEVENT
DTSTART;VALUE=DATE:20220413
DTEND;VALUE=DATE:20220414
DTSTAMP:20260425T181523
CREATED:20220309T153700Z
LAST-MODIFIED:20220309T154747Z
UID:10495-1649808000-1649894399@masserypt.com
SUMMARY:Straight Talk: Does alignment matter in Pediatric therapy?
DESCRIPTION:Panel discussion sponsored by: Progressive GaitWays\, LLC \n1-hour FREE live interactive panel discussion webinar (recording available to registrants until April 17th) 2:30 pm to 3:30 pm Mountain time \nAudience: PT\, OT\, SLP \nPanel:  Mary Massery\, Billi Cusick\, Susan Hastings\, Mindy Silva. \nModerator:  Vincent Leddy \nContact:  Nichole Zangara: hello@cocreativestudio.co \nRegistration info and link:  https://straighttalk.gaitways.com/ 
URL:https://masserypt.com/course/straight-talk-panel-discussion/
LOCATION:Illinois
CATEGORIES:Courses
END:VEVENT
BEGIN:VEVENT
DTSTART;VALUE=DATE:20220429
DTEND;VALUE=DATE:20220501
DTSTAMP:20260425T181523
CREATED:20220119T162253Z
LAST-MODIFIED:20220321T153527Z
UID:10445-1651190400-1651363199@masserypt.com
SUMMARY:LINKED: Breathing & Postural Control – PART 2
DESCRIPTION:Instructor: Mary Massery\, PT\, DPT\, DSc \nAudience: PT\, OT & SLP \n2-day hands-on LAB DAYS of the 3-day breathing course \nPrerequisite:  PART-1 Attendance at either of these courses (in past 24 months) qualifies as a pre-req: “Day-1 of Mary’s 3-Day Breathing Course” or “Linked: Breathing and Postural Control-PART 1” \nContact: Kim Sydello \nEmail: mailto:CE@eastersealsdfvr.org \nCourse information: https://www.easterseals.com/dfv/our-programs/employment-training/continuing-education.html \nCourse registration: https://www.eventbrite.com/e/linked-breathing-postural-control-part-2-tickets-246768590497
URL:https://masserypt.com/course/linked-part-2-villa-park-april-2022/
LOCATION:Easter Seals DuPage & Fox Valley\, Villa Park\, IL\, United States
CATEGORIES:Courses
ORGANIZER;CN="Kim Sydello":MAILTO:CE@eastersealsdfvr.org
END:VEVENT
END:VCALENDAR