BEGIN:VCALENDAR
VERSION:2.0
PRODID:-//MasseryPT LLC - ECPv6.15.18//NONSGML v1.0//EN
CALSCALE:GREGORIAN
METHOD:PUBLISH
X-ORIGINAL-URL:https://masserypt.com
X-WR-CALDESC:Events for MasseryPT LLC
REFRESH-INTERVAL;VALUE=DURATION:PT1H
X-Robots-Tag:noindex
X-PUBLISHED-TTL:PT1H
BEGIN:VTIMEZONE
TZID:UTC
BEGIN:STANDARD
TZOFFSETFROM:+0000
TZOFFSETTO:+0000
TZNAME:UTC
DTSTART:20210101T000000
END:STANDARD
END:VTIMEZONE
BEGIN:VEVENT
DTSTART;VALUE=DATE:20220806
DTEND;VALUE=DATE:20220808
DTSTAMP:20260425T105922
CREATED:20220316T184409Z
LAST-MODIFIED:20220629T185719Z
UID:10508-1659744000-1659916799@masserypt.com
SUMMARY:LINKED: Breathing & Postural Control – PART 2
DESCRIPTION:Instructor: Nechama Karman\, PT\, MS\, PCS \nAudience: PT\, OT & SLP \n2-day hands-on LAB DAYS of the 3-day breathing course \nPrerequisite: Attendance at either of these courses (in past 24 months) qualifies as a pre-req: “LINKED: Breathing & Postural Control – PART 1 course\, or the school-based LINKED course. \nContact: Marianne Boynton at Education Resources\, Inc. \nEmail: mailto:info@educationresourcesinc.com\n \nCourse information: https://www.educationresourcesinc.com/courses/2022-08-06/mary-masserys-linked-breathing-and-posture-control-part-2/
URL:https://masserypt.com/course/linked-part-2-washingtondc-aug-2022/
LOCATION:Washington\, DC
CATEGORIES:Courses
ORGANIZER;CN="Marianne Boynton at Education Resources Inc":MAILTO:info@educationresourcesinc.com
END:VEVENT
BEGIN:VEVENT
DTSTART;VALUE=DATE:20220819
DTEND;VALUE=DATE:20220822
DTSTAMP:20260425T105922
CREATED:20220302T153930Z
LAST-MODIFIED:20220302T154815Z
UID:10484-1660867200-1661126399@masserypt.com
SUMMARY:I SURVIVED\, NOW WHAT? Treating the musculoskeletal consequences of maturing with a chronic health condition
DESCRIPTION:Instructor:  Nechama Karman\, PT\, MS\, PCS \n\n\nAudience: PT & OT \n3-day general lifespan lab course \nContact: Molly Schuler \nFairview Rehabilitation Services \nEmail: rehabce@fairview.org \nCourse info & registration: https://fai.memberclicks.net/rehab–i-survived–now-what-
URL:https://masserypt.com/course/i-survived-fairview-august-2022/
LOCATION:Fairview Rehabilitation Services Continuing Education\, Minneapolis\, MN\, United States
CATEGORIES:Courses
ORGANIZER;CN="Juliet or Molly":MAILTO:rehabce@fairview.org
END:VEVENT
END:VCALENDAR