BEGIN:VCALENDAR
VERSION:2.0
PRODID:-//MasseryPT LLC - ECPv6.15.18//NONSGML v1.0//EN
CALSCALE:GREGORIAN
METHOD:PUBLISH
X-ORIGINAL-URL:https://masserypt.com
X-WR-CALDESC:Events for MasseryPT LLC
REFRESH-INTERVAL;VALUE=DURATION:PT1H
X-Robots-Tag:noindex
X-PUBLISHED-TTL:PT1H
BEGIN:VTIMEZONE
TZID:UTC
BEGIN:STANDARD
TZOFFSETFROM:+0000
TZOFFSETTO:+0000
TZNAME:UTC
DTSTART:20210101T000000
END:STANDARD
END:VTIMEZONE
BEGIN:VTIMEZONE
TZID:America/New_York
BEGIN:DAYLIGHT
TZOFFSETFROM:-0500
TZOFFSETTO:-0400
TZNAME:EDT
DTSTART:20210314T070000
END:DAYLIGHT
BEGIN:STANDARD
TZOFFSETFROM:-0400
TZOFFSETTO:-0500
TZNAME:EST
DTSTART:20211107T060000
END:STANDARD
BEGIN:DAYLIGHT
TZOFFSETFROM:-0500
TZOFFSETTO:-0400
TZNAME:EDT
DTSTART:20220313T070000
END:DAYLIGHT
BEGIN:STANDARD
TZOFFSETFROM:-0400
TZOFFSETTO:-0500
TZNAME:EST
DTSTART:20221106T060000
END:STANDARD
BEGIN:DAYLIGHT
TZOFFSETFROM:-0500
TZOFFSETTO:-0400
TZNAME:EDT
DTSTART:20230312T070000
END:DAYLIGHT
BEGIN:STANDARD
TZOFFSETFROM:-0400
TZOFFSETTO:-0500
TZNAME:EST
DTSTART:20231105T060000
END:STANDARD
END:VTIMEZONE
BEGIN:VEVENT
DTSTART;VALUE=DATE:20220930
DTEND;VALUE=DATE:20221003
DTSTAMP:20260423T011650
CREATED:20220106T190816Z
LAST-MODIFIED:20220608T194140Z
UID:10423-1664496000-1664755199@masserypt.com
SUMMARY:LINKED: Breathing & Postural Control – PARTS 1&2
DESCRIPTION:Instructor: Vincent Leddy\, PT\, DPT\, PCS \n\n\nAudience: PT\, OT & SLP \n3-day general lifespan lab course \nContact: Kimberly Bloms\, PT\, DPT \nKids In Motion Inc \nEmail: mailto:info@mandankids.com \nCourse registration: https://hipaa.jotform.com/info555_Kimberly_info/linked-breathing–postural-control-
URL:https://masserypt.com/course/linked-parts-1-and-2-bismarck-nd/
LOCATION:Kids In Motion Inc.\, Mandan\, ND
CATEGORIES:Courses
ORGANIZER;CN="Kimberly Bloms%2C PT%2C DPT":MAILTO:info@mandankids.com
END:VEVENT
BEGIN:VEVENT
DTSTART;VALUE=DATE:20221007
DTEND;VALUE=DATE:20221009
DTSTAMP:20260423T011650
CREATED:20220301T171543Z
LAST-MODIFIED:20220629T184310Z
UID:10482-1665100800-1665273599@masserypt.com
SUMMARY:LINKED: Breathing & Postural Control – PART 1
DESCRIPTION:Day-1 Live Interactive ONLINE version of Mary Massery’s 3-day LINKED Course (formerly known as “if you can’t breathe…”): presented in 2 half-days  \nInstructors:  Mary Massery & Nechama Karman\, PT\, MS\, PCS \nAudience: PT\, OT & SLP \n8.0-hours general lifespan course \nContact: Mark Massery \nEmail:mailto:markmassery@comcast.net \nCourse info link: https://masserypt.com/wp-content/uploads/2022/06/MPT.-Oct-7-8-2022.-mm-LINKED-Part-1.-Course-Brochure.-ver2.pdf \nRegistration link: https://www.eventbrite.com.au/e/linked-breathing-postural-control-part-1-8-hours-over-two-half-days-registration-293309736317
URL:https://masserypt.com/course/linked-part1-mpt-october-2022/
LOCATION:MasseryPT LLC
CATEGORIES:Courses
ORGANIZER;CN="Mark Massery":MAILTO:markmassery@comcast.net
END:VEVENT
BEGIN:VEVENT
DTSTART;VALUE=DATE:20221019
DTEND;VALUE=DATE:20221020
DTSTAMP:20260423T011650
CREATED:20220803T165537Z
LAST-MODIFIED:20220803T165722Z
UID:10596-1666137600-1666223999@masserypt.com
SUMMARY:COVID 19 Long-haulers: potential long-term physical problems
DESCRIPTION:2.5-hour Live Interactive Webinar (EAST coast: 7:00 pm to 9:30 pm) \nInstructor:  Mary Massery\, PT\, DPT\, DSc \nAudience: PT\, OT & SLP \nHost: Education Resources\, Inc. \nContact: Marianne Boynton at ERI \nEmail: mailto:info@educationresourcesinc.com \nCourse info & registration: https://www.educationresourcesinc.com/courses/2022-10-19/long-covid-potential-long-term-physical-problems-live-webinar-one-session/
URL:https://masserypt.com/course/covid-eri-oct-2022/
LOCATION:Education Resources\, Inc.
CATEGORIES:Courses
ORGANIZER;CN="Marianne Boynton at Education Resources Inc":MAILTO:info@educationresourcesinc.com
END:VEVENT
BEGIN:VEVENT
DTSTART;VALUE=DATE:20221021
DTEND;VALUE=DATE:20221024
DTSTAMP:20260423T011650
CREATED:20220322T173824Z
LAST-MODIFIED:20231108T175258Z
UID:10528-1666310400-1666569599@masserypt.com
SUMMARY:I SURVIVED\, NOW WHAT? Treating the musculoskeletal consequences of maturing with a chronic health condition
DESCRIPTION:Instructor:  Nechama Karman\, PT\, MS\, PCS\n\n\n\nAudience: PT & OT\n\n3-day general lifespan lab course\n\nContact: Jennie Thompson\, MOT\, OTR/L\n\nOhioHealth Rehabilitation\n\nEmail: mailto:Jennifer.Thompson@ohiohealth.com\n\nCourse info & registration: https://ohiohealth.cloud-cme.com/course/courseoverview?P=5&EID=15369
URL:https://masserypt.com/course/i-survived-ohiohealth-october-2022/
LOCATION:Ohio Health\, Columbus\, OH
CATEGORIES:Courses
ORGANIZER;CN="Jennie Thompson%2C MOT%2C OTR/L":MAILTO:Jennifer.Thompson@ohiohealth.com
END:VEVENT
BEGIN:VEVENT
DTSTART;VALUE=DATE:20221029
DTEND;VALUE=DATE:20221031
DTSTAMP:20260423T011650
CREATED:20220316T185351Z
LAST-MODIFIED:20220726T163214Z
UID:10513-1667001600-1667174399@masserypt.com
SUMMARY:LINKED: Breathing & Postural Control – PART 2
DESCRIPTION:Instructor: Trish West-Low\, PT\, MA\, DPT\, PCS \nAudience: PT\, OT & SLP \n2-day hands-on LAB DAYS of the 3-day LINKED breathing course \nPrerequisite:  PART-1 Attendance at either of these courses (in past 24 months) qualifies as a pre-req: “Day-1 of Mary’s 3-Day Breathing Course” or “Linked: Breathing and Postural Control-PART 1” \nContact: Marianne Boynton at Education Resources\, Inc. \nEmail: mailto:info@educationresourcesinc.com\n \nCourse information: https://www.educationresourcesinc.com/courses/2022-10-29/mary-masserys-linked-breathing-and-posture-control-part-2-2/
URL:https://masserypt.com/course/linked-part-2-cedar-knolls-oct-2022/
LOCATION:Cedar Knolls\, NJ
CATEGORIES:Courses
ORGANIZER;CN="Marianne Boynton at Education Resources Inc":MAILTO:info@educationresourcesinc.com
END:VEVENT
END:VCALENDAR