BEGIN:VCALENDAR
VERSION:2.0
PRODID:-//MasseryPT LLC - ECPv6.15.18//NONSGML v1.0//EN
CALSCALE:GREGORIAN
METHOD:PUBLISH
X-WR-CALNAME:MasseryPT LLC
X-ORIGINAL-URL:https://masserypt.com
X-WR-CALDESC:Events for MasseryPT LLC
REFRESH-INTERVAL;VALUE=DURATION:PT1H
X-Robots-Tag:noindex
X-PUBLISHED-TTL:PT1H
BEGIN:VTIMEZONE
TZID:UTC
BEGIN:STANDARD
TZOFFSETFROM:+0000
TZOFFSETTO:+0000
TZNAME:UTC
DTSTART:20210101T000000
END:STANDARD
END:VTIMEZONE
BEGIN:VEVENT
DTSTART;VALUE=DATE:20221202
DTEND;VALUE=DATE:20221205
DTSTAMP:20260422T215227
CREATED:20220719T162008Z
LAST-MODIFIED:20220810T170458Z
UID:10581-1669939200-1670198399@masserypt.com
SUMMARY:PNF: REFRESHED! > 40 Years of Mary Massery Tweaks
DESCRIPTION:Instructor:  Mary Massery & faculty \n\n\nAudience: PT & OT \n3-day general lifespan lab course \nContact: Lisa Van Boekel\, PT \nEaster Seals DuPage & Fox Valley \nEmail:mailto:evanboekel@eastersealsdfvr.org \nCourse info & registration: https://www.eventbrite.com/e/pnf-refreshed-40-years-of-mary-massery-tweaks-tickets-394556147057
URL:https://masserypt.com/course/pnf-villa-park-december-2022/
LOCATION:Easter Seals DuPage & Fox Valley\, Villa Park\, IL\, United States
CATEGORIES:Courses
ORGANIZER;CN="Lisa Van Boekel":MAILTO:evanboekel@eastersealsdfvr.org
END:VEVENT
END:VCALENDAR