BEGIN:VCALENDAR
VERSION:2.0
PRODID:-//MasseryPT LLC - ECPv6.15.18//NONSGML v1.0//EN
CALSCALE:GREGORIAN
METHOD:PUBLISH
X-WR-CALNAME:MasseryPT LLC
X-ORIGINAL-URL:https://masserypt.com
X-WR-CALDESC:Events for MasseryPT LLC
REFRESH-INTERVAL;VALUE=DURATION:PT1H
X-Robots-Tag:noindex
X-PUBLISHED-TTL:PT1H
BEGIN:VTIMEZONE
TZID:UTC
BEGIN:STANDARD
TZOFFSETFROM:+0000
TZOFFSETTO:+0000
TZNAME:UTC
DTSTART:20220101T000000
END:STANDARD
END:VTIMEZONE
BEGIN:VEVENT
DTSTART;VALUE=DATE:20230121
DTEND;VALUE=DATE:20230123
DTSTAMP:20260422T200253
CREATED:20220524T155408Z
LAST-MODIFIED:20220907T183835Z
UID:10544-1674259200-1674431999@masserypt.com
SUMMARY:LINKED: Breathing & Postural Control – PART 1
DESCRIPTION:Day-1 Live Interactive ONLINE version of Mary Massery’s 3-day LINKED Course (formerly known as “if you can’t breathe…”): presented in 2 half-days  \nInstructor:  Mary Massery & faculty \nAudience: PT\, OT & SLP \n8.0-hours general lifespan course \nContact: Mark Massery \nEmail:mailto:markmassery@comcast.net \nCourse info link: MPT. mm 8-hour LINKED webinar. Jan 21-22 COURSE BROCHURE \nRegistration link: https://www.eventbrite.com.au/e/linked-breathing-and-postural-control-part-1-8-hours-on-two-half-days-registration-347446290207
URL:https://masserypt.com/course/linked-part1-mpt-january-2023/
LOCATION:MasseryPT LLC for USA friendly schedule\, ONLINE for USA friendly schedule
CATEGORIES:Courses
ORGANIZER;CN="Mark Massery":MAILTO:markmassery@comcast.net
END:VEVENT
END:VCALENDAR