BEGIN:VCALENDAR
VERSION:2.0
PRODID:-//MasseryPT LLC - ECPv6.15.18//NONSGML v1.0//EN
CALSCALE:GREGORIAN
METHOD:PUBLISH
X-WR-CALNAME:MasseryPT LLC
X-ORIGINAL-URL:https://masserypt.com
X-WR-CALDESC:Events for MasseryPT LLC
REFRESH-INTERVAL;VALUE=DURATION:PT1H
X-Robots-Tag:noindex
X-PUBLISHED-TTL:PT1H
BEGIN:VTIMEZONE
TZID:UTC
BEGIN:STANDARD
TZOFFSETFROM:+0000
TZOFFSETTO:+0000
TZNAME:UTC
DTSTART:20220101T000000
END:STANDARD
END:VTIMEZONE
BEGIN:VEVENT
DTSTART;VALUE=DATE:20230310
DTEND;VALUE=DATE:20230313
DTSTAMP:20260422T161424
CREATED:20220912T162111Z
LAST-MODIFIED:20230106T213018Z
UID:10602-1678406400-1678665599@masserypt.com
SUMMARY:LINKED: Breathing & Postural Control – PARTS 1&2
DESCRIPTION:Instructor: Mary Massery and faculty \n\n\nAudience: PT\, OT & SLP \n3-day general lifespan lab course \nContact: Joanne Pelton \nA.T. Still University – Arizona School of Health Sciences \nEmail: mailto:joannepelton@atsu.edu \nCourse info / registration: https://www.atsu.edu/continuing-education/physical-therapy
URL:https://masserypt.com/course/linked-parts-1-and-2-mesa-az/
LOCATION:A.T. Still University – Arizona School of Health Sciences\, Mesa\, AZ
CATEGORIES:Courses
ORGANIZER;CN="Joanne Pelton":MAILTO:joannepelton@atsu.edu
END:VEVENT
BEGIN:VEVENT
DTSTART;VALUE=DATE:20230317
DTEND;VALUE=DATE:20230320
DTSTAMP:20260422T161424
CREATED:20211207T171724Z
LAST-MODIFIED:20220716T173454Z
UID:10400-1679011200-1679270399@masserypt.com
SUMMARY:PNF: REFRESHED! > 40 Years of Mary Massery Tweaks
DESCRIPTION:Instructor:  Mary Massery & faculty \n\n\nAudience: PT & OT \n3-day general lifespan lab course \nContact: Lisa Shaw\, PT\, DPT\, C/NDT \nIntegral Physical Therapy \nEmail:mailto:info@myintegralpt.com \nCourse info & registration: https://myintegralpt.com/services/massery-pnf-course/ \n 
URL:https://masserypt.com/course/pnf-atlanta-march-2023/
LOCATION:All About Kids Therapy Services\, Lawrenceville\, GA
CATEGORIES:Courses
ORGANIZER;CN="Lisa Shaw":MAILTO:info@myintegralpt.com
END:VEVENT
BEGIN:VEVENT
DTSTART;VALUE=DATE:20230324
DTEND;VALUE=DATE:20230326
DTSTAMP:20260422T161424
CREATED:20220628T174137Z
LAST-MODIFIED:20220726T163139Z
UID:10554-1679616000-1679788799@masserypt.com
SUMMARY:LINKED: Breathing & Postural Control – PART 2
DESCRIPTION:Instructor: Vincent Leddy\, PT\, DPT\, PCS \nAudience: PT\, OT & SLP \n2-day hands-on LAB DAYS of the 3-day LINKED breathing course \nPrerequisite:  Attendance at either of these courses (in past 24 months) qualifies as a pre-req: “LINKED: Breathing & Postural Control – PART 1 course\, or the school-based LINKED course. \nContact: Stephanie Chou \nEmail: mailto:proworkshops@therapywest.org \nCourse info & registration: https://therapywest.org/course-listing/
URL:https://masserypt.com/course/linked-part-2-gardena-march-2023/
LOCATION:Therapy West\, Inc\, Gardena\, CA
CATEGORIES:Courses
ORGANIZER;CN="Stephanie Chou":MAILTO:proworkshops@therapywest.org
END:VEVENT
BEGIN:VEVENT
DTSTART;VALUE=DATE:20230325
DTEND;VALUE=DATE:20230327
DTSTAMP:20260422T161424
CREATED:20221105T154328Z
LAST-MODIFIED:20230313T194422Z
UID:10648-1679702400-1679875199@masserypt.com
SUMMARY:LINKED: Breathing & Postural Control – PART 2
DESCRIPTION:Instructor: Patricia (Trish) West-Low\, PT\, MA\, DPT\, PCS \nAudience: PT\, OT & SLP \n2-day hands-on LAB DAYS of the 3-day LINKED breathing course \nPrerequisite: Attendance at either of these courses (in past 24 months) qualifies as a pre-req: “LINKED: Breathing & Postural Control – PART 1 course\, or the school-based LINKED course. \nContact: Stephen Kareha \nEmail: mailto:Stephen.Kareha@sluhn.org \nCourse brochure: https://masserypt.com/wp-content/uploads/2022/12/Allentown.-St-Lukes-UHN.-LINKED-Part-2-March-2023.-MPT-posting-brochure.pdf \nOnline registration link: >SOLD OUT: TAKING WAITLIST ONLY
URL:https://masserypt.com/course/linked-part2-bethlehem-march-2023/
LOCATION:St. Luke’s University Health Network\, Bethlehem\, PA
CATEGORIES:Courses
ORGANIZER;CN="Stephen Kareha%2C DPT%2C ATC%2C PhD":MAILTO:Stephen.Kareha@sluhn.org
END:VEVENT
END:VCALENDAR