BEGIN:VCALENDAR
VERSION:2.0
PRODID:-//MasseryPT LLC - ECPv6.15.18//NONSGML v1.0//EN
CALSCALE:GREGORIAN
METHOD:PUBLISH
X-WR-CALNAME:MasseryPT LLC
X-ORIGINAL-URL:https://masserypt.com
X-WR-CALDESC:Events for MasseryPT LLC
REFRESH-INTERVAL;VALUE=DURATION:PT1H
X-Robots-Tag:noindex
X-PUBLISHED-TTL:PT1H
BEGIN:VTIMEZONE
TZID:UTC
BEGIN:STANDARD
TZOFFSETFROM:+0000
TZOFFSETTO:+0000
TZNAME:UTC
DTSTART:20220101T000000
END:STANDARD
END:VTIMEZONE
BEGIN:VEVENT
DTSTART;VALUE=DATE:20230421
DTEND;VALUE=DATE:20230423
DTSTAMP:20260422T143430
CREATED:20221109T165653Z
LAST-MODIFIED:20221109T173135Z
UID:10659-1682035200-1682207999@masserypt.com
SUMMARY:LINKED: Breathing & Postural Control – PART 1
DESCRIPTION:Day-1 Live Interactive ONLINE version of Mary Massery’s 3-day LINKED Course (formerly known as “if you can’t breathe…”): presented in 2 half-days  \nInstructor: Mary Massery\, PT\, DPT\, DSc \nAudience: PT\, OT & SLP \n8.0-hours general lifespan course \nContact: Marianne Boynton at Education Resources Inc. \nEmail:mailto:info@educationresourcesinc.com \nCourse Info & Registration link: https://www.educationresourcesinc.com/courses/2023-04-21/mary-masserys-linked-breathing-postural-control-part-1-live-webinar-two-sessions/
URL:https://masserypt.com/course/https-masserypt-com-course-eri-linked-april-2023/
LOCATION:Education Resources\, Inc.
CATEGORIES:Courses
ORGANIZER;CN="Marianne Boynton at Education Resources Inc":MAILTO:info@educationresourcesinc.com
END:VEVENT
BEGIN:VEVENT
DTSTART;VALUE=DATE:20230429
DTEND;VALUE=DATE:20230501
DTSTAMP:20260422T143430
CREATED:20220914T162451Z
LAST-MODIFIED:20221105T145556Z
UID:10620-1682726400-1682899199@masserypt.com
SUMMARY:LINKED: Breathing & Postural Control – PART 2
DESCRIPTION:Instructor: Vincent Leddy\, PT\, DPT\, PCS \nAudience: PT\, OT & SLP \n2-day hands-on LAB DAYS of the 3-day LINKED breathing course \nPrerequisite: Attendance at either of these courses (in past 24 months) qualifies as a pre-req: “LINKED: Breathing & Postural Control – PART 1 course\, or the school-based LINKED course. \nContact: Kerry Clark\, OT \nEmail: mailto:Kerry.Clark@providence.org \nCourse info & registration: https://psjhcrmwebsites.microsoftcrmportals.com/event?id=Massery_Breathing_Postural_Control773470396
URL:https://masserypt.com/course/part-2-anchorage-april-2023/
LOCATION:Providence Alaska Medical Center\, Anchorage\, AK
CATEGORIES:Courses
ORGANIZER;CN="Kerry Clark%2C OT":MAILTO:Kerry.Clark@providence.org
END:VEVENT
END:VCALENDAR