BEGIN:VCALENDAR
VERSION:2.0
PRODID:-//MasseryPT LLC - ECPv6.15.18//NONSGML v1.0//EN
CALSCALE:GREGORIAN
METHOD:PUBLISH
X-ORIGINAL-URL:https://masserypt.com
X-WR-CALDESC:Events for MasseryPT LLC
REFRESH-INTERVAL;VALUE=DURATION:PT1H
X-Robots-Tag:noindex
X-PUBLISHED-TTL:PT1H
BEGIN:VTIMEZONE
TZID:UTC
BEGIN:STANDARD
TZOFFSETFROM:+0000
TZOFFSETTO:+0000
TZNAME:UTC
DTSTART:20230101T000000
END:STANDARD
END:VTIMEZONE
BEGIN:VEVENT
DTSTART;VALUE=DATE:20240419
DTEND;VALUE=DATE:20240422
DTSTAMP:20260422T103050
CREATED:20230327T184304Z
LAST-MODIFIED:20231213T191817Z
UID:10773-1713484800-1713743999@masserypt.com
SUMMARY:LINKED: Breathing & Postural Control – PARTS 1 and 2
DESCRIPTION:Instructor: Mary Massery\, PT\, DPT\, DSc \nAudience: PT\, OT & SLP \n3-day hands-on LAB COURSE \nContact: Noelle Setters\, OTR/L\, MS \nEmail: noelle.setters@cchmc.org \nCourse info and registration: https://web.cvent.com/event/0983404b-300c-4689-a94c-e4ec139759cb/summary
URL:https://masserypt.com/course/linked-parts1and2-cincinnati-april-2024/
LOCATION:Cincinnati Children’s Hospital\, 3333 Burnet Avenue\, Cincinnati\, OH\, United States
CATEGORIES:Courses
ORGANIZER;CN="Noelle Setters%2C OTR/L%2C MS":MAILTO:noelle.setters@cchmc.org
END:VEVENT
BEGIN:VEVENT
DTSTART;TZID=UTC:20240419T000000
DTEND;TZID=UTC:20240421T235959
DTSTAMP:20260422T103050
CREATED:20240227T175056Z
LAST-MODIFIED:20240307T182256Z
UID:11023-1713484800-1713743999@masserypt.com
SUMMARY:LINKED: Breathing & Postural Control – PARTS 1 and 2
DESCRIPTION:Instructor: Vincent Leddy\, PT\, DPT\, PCS \n\n\n\nAudience: PT\, OT & SLP \n\n\n\n3-day hands-on LAB COURSE \n\n\n\nContact: Karen Curtis\, PT\, DPT \n\n\n\nEmail: kcurtis1@phoenixchildrens.com  \n\n\n\nCourse info and registration: https://www.eventbrite.com/e/mary-masserys-linked-breathing-and-postural-control-course-tickets-858320217877
URL:https://masserypt.com/course/linked-parts1and2-phoenix-april-2024/
LOCATION:Phoenix Children’s Hospital\, Phoenix\, AZ
CATEGORIES:Courses
END:VEVENT
END:VCALENDAR