BEGIN:VCALENDAR
VERSION:2.0
PRODID:-//MasseryPT LLC - ECPv6.15.18//NONSGML v1.0//EN
CALSCALE:GREGORIAN
METHOD:PUBLISH
X-ORIGINAL-URL:https://masserypt.com
X-WR-CALDESC:Events for MasseryPT LLC
REFRESH-INTERVAL;VALUE=DURATION:PT1H
X-Robots-Tag:noindex
X-PUBLISHED-TTL:PT1H
BEGIN:VTIMEZONE
TZID:UTC
BEGIN:STANDARD
TZOFFSETFROM:+0000
TZOFFSETTO:+0000
TZNAME:UTC
DTSTART:20230101T000000
END:STANDARD
END:VTIMEZONE
BEGIN:VEVENT
DTSTART;TZID=UTC:20240504T000000
DTEND;TZID=UTC:20240505T235959
DTSTAMP:20260422T121731
CREATED:20240228T012512Z
LAST-MODIFIED:20240228T033918Z
UID:11027-1714780800-1714953599@masserypt.com
SUMMARY:LINKED: Breathing & Postural Control – PART 2
DESCRIPTION:Instructor: Mary Massery\, PT\, DPT\, DSc \n\n\n\nAudience: PT\, OT & SLP \n\n\n\n2-day hands-on LAB DAYS of the 3-day LINKED breathing course \n\n\n\nPrerequisite: Attendance at either of these courses (in past 24 months) qualifies as a pre-req: “LINKED: Breathing & Postural Control – PART 1 course\, or the school-based LINKED course. \n\n\n\nContact: Jennifer Donenberg\, PT\, DPT \n\n\n\nEmail: JDonenberg@Hschealth.org  \n\n\n\nCourse info & registration: http://tinyurl.com/RSClinked2024course  \n\n\n\nHSC Pediatric Center\, Washington DC \n\n\n\n\n\n\n\nHSC Pediatric Center\, Washington DC
URL:https://masserypt.com/course/linked-part2-hsc-may-2024/
LOCATION:Illinois
CATEGORIES:Courses
ORGANIZER;CN="Jennifer Donenberg%2C PT%2C DPT":MAILTO:JDonenberg@Hschealth.org
END:VEVENT
BEGIN:VEVENT
DTSTART;TZID=UTC:20240517T000000
DTEND;TZID=UTC:20240518T235959
DTSTAMP:20260422T121731
CREATED:20231002T192215Z
LAST-MODIFIED:20231231T001434Z
UID:10927-1715904000-1716076799@masserypt.com
SUMMARY:LINKED: Breathing & Postural Control – PART 1
DESCRIPTION:Day-1 Live Interactive ONLINE version of Mary Massery’s 3-day Breathing Course: presented in two half-days \n\n\n\nInstructor:  Mary Massery\, PT\, DPT\, DSc and faculty \n\n\n\nAudience: PT\, OT & SLP \n\n\n\n8.0-hours general lifespan course \n\n\n\nPT CEUs: available from Illinois Physical Therapy Association \n\n\n\nContact: Mark Massery \n\n\n\nEmail: mailto:markmassery@comcast.net \n\n\n\n+1-847-858-8181 / USA mobile \n\n\n\nCourse brochure: https://masserypt.com/wp-content/uploads/2023/10/MPT.-mm-8-hour-LINKED-webinar.-May-17-18-2024-COURSE-BROCHURE.pdf \n\n\n\nCourse Registration: https://www.eventbrite.com/e/linked-breathing-and-postural-control-part-1-8-hours-on-two-half-days-registration-728542840247?aff=oddtdtcreator
URL:https://masserypt.com/course/mpt-linked-part1-may-2024/
LOCATION:MasseryPT LLC for USA friendly schedule\, ONLINE for USA friendly schedule
CATEGORIES:Courses
ORGANIZER;CN="Mark Massery":MAILTO:markmassery@comcast.net
END:VEVENT
BEGIN:VEVENT
DTSTART;TZID=UTC:20240531T000000
DTEND;TZID=UTC:20240602T235959
DTSTAMP:20260422T121731
CREATED:20240122T153552Z
LAST-MODIFIED:20240208T194227Z
UID:10979-1717113600-1717372799@masserypt.com
SUMMARY:LINKED: Breathing & Postural Control – PARTS 1 and 2
DESCRIPTION:Instructor: Nechama Karman\, PT\, MS\, PCS \n\n\n\nAudience: PT\, OT & SLP \n\n\n\n3-day hands-on LAB COURSE \n\n\n\nContact: Kelsey Okruch\, PT\, DPT\, ATP \n\n\n\nEmail: okruchk@health.missouri.edu \n\n\n\nCourse info including CEUs: https://masserypt.com/wp-content/uploads/2024/02/Columbia-MO.-Mizzou-Therapy-Services.-LINKED-12-Flyer-002.pdf \n\n\n\nCourse registration: https://cvent.me/vrerwe?locale=en
URL:https://masserypt.com/course/linked-parts1and2-columbia-mo-may31-june2-2024/
LOCATION:University of Missouri Health\, 404 N. Keene St.\, Columbia\, Missouri
CATEGORIES:Courses
ORGANIZER;CN="Kelsey Okruch%2C PT%2C DPT%2C ATP":MAILTO:okruchk@health.missouri.edu
END:VEVENT
END:VCALENDAR