BEGIN:VCALENDAR
VERSION:2.0
PRODID:-//MasseryPT LLC - ECPv6.15.18//NONSGML v1.0//EN
CALSCALE:GREGORIAN
METHOD:PUBLISH
X-WR-CALNAME:MasseryPT LLC
X-ORIGINAL-URL:https://masserypt.com
X-WR-CALDESC:Events for MasseryPT LLC
REFRESH-INTERVAL;VALUE=DURATION:PT1H
X-Robots-Tag:noindex
X-PUBLISHED-TTL:PT1H
BEGIN:VTIMEZONE
TZID:UTC
BEGIN:STANDARD
TZOFFSETFROM:+0000
TZOFFSETTO:+0000
TZNAME:UTC
DTSTART:20230101T000000
END:STANDARD
END:VTIMEZONE
BEGIN:VEVENT
DTSTART;TZID=UTC:20240913T000000
DTEND;TZID=UTC:20240915T235959
DTSTAMP:20260422T200112
CREATED:20240123T194429Z
LAST-MODIFIED:20240602T141238Z
UID:10986-1726185600-1726444799@masserypt.com
SUMMARY:“PNF REFRESHED! 40 YEARS OF MARY MASSERY TWEAKS”
DESCRIPTION:Instructor: Mary Massery\, PT\, DPT\, DSc \n\n\n\nAudience: PT & OT \n\n\n\n3-day in-person hands-on LAB COURSE \n\n\n\nContact: Tracy Hall\, Director of Administrative Operations \n\n\n\nEmail: mailto:info@jacobskids.org \n\n\n\nPhone: 219-250-3203 \n\n\n\nCourse info and registration: https://www.jacobskids.org/mary-massery-conference-2024/
URL:https://masserypt.com/course/pnf-refreshed-chesterton-sept-2024/
LOCATION:Jacob’s Ladder Pediatric Rehab Center\, Chesterton\, Indiana
CATEGORIES:Courses
ORGANIZER;CN="Tracy Hall%2C Director of Administrative Operations":MAILTO:info@jacobskids.org
END:VEVENT
BEGIN:VEVENT
DTSTART;VALUE=DATE:20240927
DTEND;VALUE=DATE:20240930
DTSTAMP:20260422T200112
CREATED:20230803T154431Z
LAST-MODIFIED:20240125T201553Z
UID:10844-1727395200-1727654399@masserypt.com
SUMMARY:I SURVIVED\, NOW WHAT?: Treating the musculoskeletal consequences of maturing with a chronic health condition
DESCRIPTION:Instructor: Mary Massery\, PT\, DPT\, DSc \n\n\n\nAudience: PT & OT \n\n\n\n3-day in-person hands-on LAB COURSE \n\n\n\nContact: Joanne Pelton \n\n\n\nEmail: mailto:joannepelton@atsu.edu  \n\n\n\nPhone: 480-265-8035 \n\n\n\nCourse information: https://masserypt.com/wp-content/uploads/2024/01/Mesa-AZ.-ATSU-Massery-Course-Brochure-MSK-2024.pdf \n\n\n\nCourse registration: https://cvent.me/rWb8R1?locale=en&Refid=March+2023+-+Mary+Massery+course+at+ATSU
URL:https://masserypt.com/course/i-survived-mesa-sept-2024/
LOCATION:A.T. Still University – Arizona School of Health Sciences\, Mesa\, AZ
CATEGORIES:Courses
ORGANIZER;CN="Joanne Pelton":MAILTO:joannepelton@atsu.edu
END:VEVENT
END:VCALENDAR