BEGIN:VCALENDAR
VERSION:2.0
PRODID:-//MasseryPT LLC - ECPv6.15.18//NONSGML v1.0//EN
CALSCALE:GREGORIAN
METHOD:PUBLISH
X-ORIGINAL-URL:https://masserypt.com
X-WR-CALDESC:Events for MasseryPT LLC
REFRESH-INTERVAL;VALUE=DURATION:PT1H
X-Robots-Tag:noindex
X-PUBLISHED-TTL:PT1H
BEGIN:VTIMEZONE
TZID:UTC
BEGIN:STANDARD
TZOFFSETFROM:+0000
TZOFFSETTO:+0000
TZNAME:UTC
DTSTART:20230101T000000
END:STANDARD
END:VTIMEZONE
BEGIN:VEVENT
DTSTART;TZID=UTC:20241004T000000
DTEND;TZID=UTC:20241006T235959
DTSTAMP:20260422T215123
CREATED:20240201T184625Z
LAST-MODIFIED:20240312T192849Z
UID:11010-1728000000-1728259199@masserypt.com
SUMMARY:LINKED: Breathing & Postural Control – PARTS 1 and/or 2
DESCRIPTION:Instructor: Trish West-Low\, PT\, MA\, DPT\, PCSAudience: PT\, OT & SLP \n\n\n\n3-day hands-on LAB COURSE \n\n\n\nContact: Beth Lappin \n\n\n\nEmail: bethl@patkids.com \n\n\n\nCourse info and registration: https://pediatricadvancedtherapy.com/continuing-education/
URL:https://masserypt.com/course/linked-parts1and2-mooresville-nc-october-2024/
LOCATION:Pediatric Advanced Therapy\, Mooresville\, NC
CATEGORIES:Courses
ORGANIZER;CN="Beth Lappin":MAILTO:bethl@patkids.com
END:VEVENT
BEGIN:VEVENT
DTSTART;TZID=UTC:20241025T000000
DTEND;TZID=UTC:20241026T235959
DTSTAMP:20260422T215123
CREATED:20231230T234810Z
LAST-MODIFIED:20240111T174541Z
UID:10961-1729814400-1729987199@masserypt.com
SUMMARY:LINKED: Breathing & Postural Control – PART 1
DESCRIPTION:Day-1 Live Interactive ONLINE version of Mary Massery’s 3-day Breathing Course: presented in two half-days \n\n\n\nInstructor:  Mary Massery\, PT\, DPT\, DSc and faculty \n\n\n\nAudience: PT\, OT & SLP \n\n\n\n8.0-hours general lifespan course \n\n\n\nPT CEUs: available from Illinois Physical Therapy Association \n\n\n\nContact: Mark Massery \n\n\n\nEmail: mailto:markmassery@comcast.net \n\n\n\n+1-847-858-8181 / USA mobile \n\n\n\nCourse brochure: https://masserypt.com/wp-content/uploads/2023/12/MPT.-mm-8-hour-LINKED-webinar.-October-25-26-2024-COURSE-BROCHURE.pdf \n\n\n\nCourse Registration: https://www.eventbrite.com.au/e/linked-breathing-and-postural-control-part-1-8-hours-on-two-half-days-registration-786710380927?aff=oddtdtcreator
URL:https://masserypt.com/course/mpt-linked-part1-oct-2024/
LOCATION:MasseryPT LLC for USA friendly schedule\, ONLINE for USA friendly schedule
CATEGORIES:Courses
ORGANIZER;CN="MasseryPT LLC":MAILTO:markmassery@comcast.net
END:VEVENT
END:VCALENDAR