BEGIN:VCALENDAR
VERSION:2.0
PRODID:-//MasseryPT LLC - ECPv6.15.18//NONSGML v1.0//EN
CALSCALE:GREGORIAN
METHOD:PUBLISH
X-ORIGINAL-URL:https://masserypt.com
X-WR-CALDESC:Events for MasseryPT LLC
REFRESH-INTERVAL;VALUE=DURATION:PT1H
X-Robots-Tag:noindex
X-PUBLISHED-TTL:PT1H
BEGIN:VTIMEZONE
TZID:UTC
BEGIN:STANDARD
TZOFFSETFROM:+0000
TZOFFSETTO:+0000
TZNAME:UTC
DTSTART:20240101T000000
END:STANDARD
END:VTIMEZONE
BEGIN:VEVENT
DTSTART;TZID=UTC:20250502T000000
DTEND;TZID=UTC:20250503T235959
DTSTAMP:20260425T104137
CREATED:20240918T192617Z
LAST-MODIFIED:20241127T182032Z
UID:11161-1746144000-1746316799@masserypt.com
SUMMARY:LINKED: Breathing & Postural Control – PART 1
DESCRIPTION:Day-1 Live Interactive ONLINE version of Mary Massery’s 3-day Breathing Course: presented in two half-days \n\n\n\nInstructor:  Mary Massery\, PT\, DPT\, DSc and faculty \n\n\n\nAudience: PT\, OT & SLP \n\n\n\n8.0-hours general lifespan course \n\n\n\nPT CEUs: available from Illinois Physical Therapy Association \n\n\n\nContact: Mark Massery \n\n\n\nmarkmassery@comcast.net  \n\n\n\n+1-847-858-8181 / USA mobile \n\n\n\nCourse brochure: https://masserypt.com/wp-content/uploads/2024/09/MPT.-mm-8-hour-LINKED-webinar.-05-02-2025-COURSE-BROCHURE.pdf \n\n\n\nCourse Registration: https://www.eventbrite.com/e/linked-breathing-and-postural-control-part-1-8-hours-on-two-half-days-registration-1021948273797
URL:https://masserypt.com/course/mpt-linked-part1-may-2025/
LOCATION:MasseryPT LLC webinar\, Glenview\, Illinois
CATEGORIES:Courses
ORGANIZER;CN="Mark Massery":MAILTO:markmassery@comcast.net
END:VEVENT
BEGIN:VEVENT
DTSTART;TZID=UTC:20250503T000000
DTEND;TZID=UTC:20250504T235959
DTSTAMP:20260425T104137
CREATED:20241127T172017Z
LAST-MODIFIED:20241127T180950Z
UID:11234-1746230400-1746403199@masserypt.com
SUMMARY:LINKED: Breathing & Postural Control – PART 2
DESCRIPTION:Instructor: Nechama Karman\, PT\, MS\, PCS   \n\n\n\nAudience: PT\, OT & SLP \n\n\n\n2-day hands-on LAB DAYS of the 3-day LINKED breathing course \n\n\n\nPrerequisite: Attendance at either of these courses qualifies as a pre-req: “LINKED: Breathing & Postural Control – PART 1 course\, or the school-based LINKED course. \n\n\n\nInstructor: Nechama Karman\, PT\, MS\, PCS   |Audience: PT\, OT\, SLP |Location: Edison\, NJ |Sponsor: HMH JFK Johnson Rehabilitation Institute | \n\n\n\nContact: Marianne Mohary \n\n\n\nwork mobile: 908-783-3347Email: marianne.mohary@hmhn.org \n\n\n\nCourse info & registration: https://events.hackensackmeridianhealth.org/event/LINKED22024/summary
URL:https://masserypt.com/course/jfk-edison-nj-linked-part-2-2025/
LOCATION:JFK Johnson Rehabilitation Institute\, Edison\, NJ
CATEGORIES:Courses
END:VEVENT
BEGIN:VEVENT
DTSTART;TZID=UTC:20250516T000000
DTEND;TZID=UTC:20250518T235959
DTSTAMP:20260425T104137
CREATED:20241023T162243Z
LAST-MODIFIED:20250425T164328Z
UID:11204-1747353600-1747612799@masserypt.com
SUMMARY:LINKED: Breathing & Postural Control – PARTS 1 and/or 2
DESCRIPTION:Instructor: Nechama Karman\, PT\, MS\, PCSAudience: PT\, OT & SLP \n\n\n\n3-day hands-on LAB COURSE \n\n\n\nSponsor: Easter Seals DuPage\, Villa Park\, IL \n\n\n\nContact: Kim SydelloEmail: Ksydello@eastersealsdfvr.org \n\n\n\nphone: 630-261-6191  \n\n\n\nCourse info and registration: https://www.eventbrite.com/e/linked-breathing-postural-control-tickets-1119876413499?aff=oddtdtcreator
URL:https://masserypt.com/course/linked-parts-1-and-2-villa-park-may-2025/
LOCATION:Easter Seals DuPage & Fox Valley\, Villa Park\, IL\, United States
CATEGORIES:Courses
ORGANIZER;CN="Kim Sydello":MAILTO:CE@eastersealsdfvr.org
END:VEVENT
END:VCALENDAR