BEGIN:VCALENDAR
VERSION:2.0
PRODID:-//MasseryPT LLC - ECPv6.15.18//NONSGML v1.0//EN
CALSCALE:GREGORIAN
METHOD:PUBLISH
X-WR-CALNAME:MasseryPT LLC
X-ORIGINAL-URL:https://masserypt.com
X-WR-CALDESC:Events for MasseryPT LLC
REFRESH-INTERVAL;VALUE=DURATION:PT1H
X-Robots-Tag:noindex
X-PUBLISHED-TTL:PT1H
BEGIN:VTIMEZONE
TZID:UTC
BEGIN:STANDARD
TZOFFSETFROM:+0000
TZOFFSETTO:+0000
TZNAME:UTC
DTSTART:20250101T000000
END:STANDARD
END:VTIMEZONE
BEGIN:VEVENT
DTSTART;TZID=UTC:20260116T000000
DTEND;TZID=UTC:20260117T235959
DTSTAMP:20260421T193244
CREATED:20250702T193600Z
LAST-MODIFIED:20250702T194340Z
UID:11388-1768521600-1768694399@masserypt.com
SUMMARY:LINKED: Breathing & Postural Control – PART 1 webinar
DESCRIPTION:Day-1 Live Interactive ONLINE version of Mary Massery’s 3-day LINKED Course (formerly known as “if you can’t breathe…”): presented in 2 half-days  \n\n\n\nInstructor: Mary MasseryAudience: PT\, OT & SLP \n\n\n\n8.0-hours general lifespan courseHost: Education Resources Inc. \n\n\n\nContact: Marianne Boynton at ERI mboynton@educationresourcesinc.com800-487-6530Course info (Friday am & Saturday am) and registration: https://educationresourcesinc.com/courses/2026-01-16/mary-masserys-linked-breathing-postural-control-part-1-live-webinar-two-sessions-7/
URL:https://masserypt.com/course/eri-linked-part-1-january-2026/
LOCATION:Education Resources\, Inc.
CATEGORIES:Courses
ORGANIZER;CN="Marianne Boynton at Education Resources Inc":MAILTO:info@educationresourcesinc.com
END:VEVENT
END:VCALENDAR