BEGIN:VCALENDAR
VERSION:2.0
PRODID:-//MasseryPT LLC - ECPv6.15.18//NONSGML v1.0//EN
CALSCALE:GREGORIAN
METHOD:PUBLISH
X-WR-CALNAME:MasseryPT LLC
X-ORIGINAL-URL:https://masserypt.com
X-WR-CALDESC:Events for MasseryPT LLC
REFRESH-INTERVAL;VALUE=DURATION:PT1H
X-Robots-Tag:noindex
X-PUBLISHED-TTL:PT1H
BEGIN:VTIMEZONE
TZID:UTC
BEGIN:STANDARD
TZOFFSETFROM:+0000
TZOFFSETTO:+0000
TZNAME:UTC
DTSTART:20250101T000000
END:STANDARD
END:VTIMEZONE
BEGIN:VEVENT
DTSTART;TZID=UTC:20261204T000000
DTEND;TZID=UTC:20261205T235959
DTSTAMP:20260422T084726
CREATED:20250917T205453Z
LAST-MODIFIED:20251120T231301Z
UID:11426-1796342400-1796515199@masserypt.com
SUMMARY:LINKED: Breathing & Postural Control – PART 1
DESCRIPTION:Day-1 Live Interactive ONLINE version of Mary Massery’s 3-day Breathing Course: presented in two half-days \n\n\n\nInstructor:  Mary Massery\, PT\, DPT\, DSc and faculty \n\n\n\nAudience: PT\, OT & SLP \n\n\n\n8.0-hours general lifespan course \n\n\n\nPT CEUs: available from Illinois Physical Therapy Association \n\n\n\nContact: Mark Massery \n\n\n\nmarkmassery@comcast.net  \n\n\n\n+1-847-858-8181 / USA mobile \n\n\n\nCourse brochure: https://masserypt.com/wp-content/uploads/2025/11/MPT.-mm-8-hour-LINKED-webinar.-12-4-2026-COURSE-BROCHURE.pdf \n\n\n\nCourse Registration: https://www.eventbrite.com/e/linked-breathing-and-postural-control-part-1-8-hours-on-two-half-days-registration-1975042756050
URL:https://masserypt.com/course/linked-breathing-postural-control-part-1-december-2026/
LOCATION:MasseryPT LLC webinar\, Glenview\, Illinois
CATEGORIES:Courses
ORGANIZER;CN="Mark Massery":MAILTO:markmassery@comcast.net
END:VEVENT
END:VCALENDAR