BEGIN:VCALENDAR
VERSION:2.0
PRODID:-//MasseryPT LLC - ECPv6.15.18//NONSGML v1.0//EN
CALSCALE:GREGORIAN
METHOD:PUBLISH
X-ORIGINAL-URL:https://masserypt.com
X-WR-CALDESC:Events for MasseryPT LLC
REFRESH-INTERVAL;VALUE=DURATION:PT1H
X-Robots-Tag:noindex
X-PUBLISHED-TTL:PT1H
BEGIN:VTIMEZONE
TZID:UTC
BEGIN:STANDARD
TZOFFSETFROM:+0000
TZOFFSETTO:+0000
TZNAME:UTC
DTSTART:20250101T000000
END:STANDARD
END:VTIMEZONE
BEGIN:VEVENT
DTSTART;TZID=UTC:20261002T000000
DTEND;TZID=UTC:20261003T235959
DTSTAMP:20260422T102937
CREATED:20250917T203936Z
LAST-MODIFIED:20251120T230506Z
UID:11419-1790899200-1791071999@masserypt.com
SUMMARY:LINKED: Breathing & Postural Control – PART 1
DESCRIPTION:Day-1 Live Interactive ONLINE version of Mary Massery’s 3-day Breathing Course: presented in two half-days \n\n\n\nInstructor:  Mary Massery\, PT\, DPT\, DSc and faculty \n\n\n\nAudience: PT\, OT & SLP \n\n\n\n8.0-hours general lifespan course \n\n\n\nPT CEUs: available from Illinois Physical Therapy Association \n\n\n\nContact: Mark Massery \n\n\n\nmarkmassery@comcast.net  \n\n\n\n+1-847-858-8181 / USA mobile \n\n\n\nCourse brochure: https://masserypt.com/wp-content/uploads/2025/11/MPT.-mm-8-hour-LINKED-webinar.-10-2-2026-COURSE-BROCHURE.pdf \n\n\n\nCourse Registration: https://www.eventbrite.com/e/linked-breathing-and-postural-control-part-1-8-hours-on-two-half-days-registration-1708737733559
URL:https://masserypt.com/course/linked-breathing-postural-control-part-1-october-2026/
LOCATION:MasseryPT LLC webinar\, Glenview\, Illinois
CATEGORIES:Courses
ORGANIZER;CN="Mark Massery":MAILTO:markmassery@comcast.net
END:VEVENT
BEGIN:VEVENT
DTSTART;TZID=UTC:20261016T000000
DTEND;TZID=UTC:20261018T235959
DTSTAMP:20260422T102937
CREATED:20251204T175153Z
LAST-MODIFIED:20260120T223746Z
UID:11475-1792108800-1792367999@masserypt.com
SUMMARY:LINKED: Breathing & Postural Control – PARTS 1 and/or 2
DESCRIPTION:Instructor: Mary Massery\, PT\, DPT\, DScAudience: PT\, OT & SLP \n\n\n\nPart 1 & Part 2 = 3-day hands-on LAB COURSE \n\n\n\nPART 2 Prerequisite: LINKED – PART 1 Course / Webinar; or the school-based LINKED course. \n\n\n\nSponsor: Children’s Healthcare of AtlantaEmail: michelle.moore@choa.org \n\n\n\nPhone: 404-785-7853Course info & registration for PART 1 and / or PART 2: https://www.choa.org/medical-professionals/education-and-training/cme/mary-masserys-linked   \n\n\n\nor contact Michelle Moore below
URL:https://masserypt.com/course/atlanta-choa-2026-linked-breathing-postural-control-parts-1-and-or-2/
LOCATION:CHOA\, Atlanta\, Georgia
CATEGORIES:Courses
ORGANIZER;CN="Michelle Moore%2C MS%2C OTR/L":MAILTO: Michelle.Moore@choa.org 
END:VEVENT
BEGIN:VEVENT
DTSTART;TZID=UTC:20261116T183000
DTEND;TZID=UTC:20261116T210000
DTSTAMP:20260422T102937
CREATED:20260318T162611Z
LAST-MODIFIED:20260406T150217Z
UID:11517-1794853800-1794862800@masserypt.com
SUMMARY:“When Reflux Comes up\, EVERYTHING Is Affected”
DESCRIPTION:2.5-hour presentation via live\, interactive WEBINAR \n\n\n\nTuesday\, April 7\, 2026\, 6:30 – 9:00 pm EASTERN time \n\n\n\nSponsor:  MasseryPT LLC \n\n\n\nInstructors:  Mary Massery\, PT\, DPT\, DSc and Margie Mizera\, PT\, DPT\, PCS \n\n\n\nAudience: PT\, OT & other clinicians working with patients with GERD (gastroesophageal reflux disease).  The focus is on the pediatric population. \n\n\n\nPT CEUs: PT CEUs applied for with IL & CA; IL EI credit applied for. \n\n\n\nContact: Mark Massery \n\n\n\nEmail: markmassery@comcast.net \n\n\n\n+1-847-858-8181 / USA mobile \n\n\n\nCourse brochure: https://masserypt.com/wp-content/uploads/2026/04/MPT.-mm_mm-2.5-hr-GERD-webinar.-11-16-2026-COURSE-BROCHURE.-rev1.pdf \n\n\n\nCourse registration: https://www.eventbrite.com/e/when-reflux-comes-up-everything-is-affected-registration-1985407853335
URL:https://masserypt.com/course/when-reflux-comes-up-november-2026/
LOCATION:MasseryPT LLC webinar\, Glenview\, Illinois
CATEGORIES:Courses
END:VEVENT
BEGIN:VEVENT
DTSTART;TZID=UTC:20261204T000000
DTEND;TZID=UTC:20261205T235959
DTSTAMP:20260422T102937
CREATED:20250917T205453Z
LAST-MODIFIED:20251120T231301Z
UID:11426-1796342400-1796515199@masserypt.com
SUMMARY:LINKED: Breathing & Postural Control – PART 1
DESCRIPTION:Day-1 Live Interactive ONLINE version of Mary Massery’s 3-day Breathing Course: presented in two half-days \n\n\n\nInstructor:  Mary Massery\, PT\, DPT\, DSc and faculty \n\n\n\nAudience: PT\, OT & SLP \n\n\n\n8.0-hours general lifespan course \n\n\n\nPT CEUs: available from Illinois Physical Therapy Association \n\n\n\nContact: Mark Massery \n\n\n\nmarkmassery@comcast.net  \n\n\n\n+1-847-858-8181 / USA mobile \n\n\n\nCourse brochure: https://masserypt.com/wp-content/uploads/2025/11/MPT.-mm-8-hour-LINKED-webinar.-12-4-2026-COURSE-BROCHURE.pdf \n\n\n\nCourse Registration: https://www.eventbrite.com/e/linked-breathing-and-postural-control-part-1-8-hours-on-two-half-days-registration-1975042756050
URL:https://masserypt.com/course/linked-breathing-postural-control-part-1-december-2026/
LOCATION:MasseryPT LLC webinar\, Glenview\, Illinois
CATEGORIES:Courses
ORGANIZER;CN="Mark Massery":MAILTO:markmassery@comcast.net
END:VEVENT
END:VCALENDAR