BEGIN:VCALENDAR
VERSION:2.0
PRODID:-//MasseryPT LLC - ECPv6.15.18//NONSGML v1.0//EN
CALSCALE:GREGORIAN
METHOD:PUBLISH
X-WR-CALNAME:MasseryPT LLC
X-ORIGINAL-URL:https://masserypt.com
X-WR-CALDESC:Events for MasseryPT LLC
REFRESH-INTERVAL;VALUE=DURATION:PT1H
X-Robots-Tag:noindex
X-PUBLISHED-TTL:PT1H
BEGIN:VTIMEZONE
TZID:UTC
BEGIN:STANDARD
TZOFFSETFROM:+0000
TZOFFSETTO:+0000
TZNAME:UTC
DTSTART:20250101T000000
END:STANDARD
END:VTIMEZONE
BEGIN:VEVENT
DTSTART;TZID=UTC:20260313T000000
DTEND;TZID=UTC:20260314T235959
DTSTAMP:20260421T151815
CREATED:20250916T164356Z
LAST-MODIFIED:20250916T165605Z
UID:11410-1773360000-1773532799@masserypt.com
SUMMARY:LINKED: Breathing & Postural Control – PART 1
DESCRIPTION:Day-1 Live Interactive ONLINE version of Mary Massery’s 3-day Breathing Course: presented in two half-days \n\n\n\nInstructor:  Mary Massery\, PT\, DPT\, DSc and faculty \n\n\n\nAudience: PT\, OT & SLP \n\n\n\n8.0-hours general lifespan course \n\n\n\nPT CEUs: available from Illinois Physical Therapy Association \n\n\n\nContact: Mark Massery \n\n\n\nmarkmassery@comcast.net  \n\n\n\n+1-847-858-8181 / USA mobile \n\n\n\nCourse brochure: https://masserypt.com/wp-content/uploads/2025/09/MPT.-mm-8-hour-LINKED-webinar.-03-13-2026-COURSE-BROCHURE.pdf \n\n\n\nCourse Registration: https://www.eventbrite.com/e/linked-breathing-and-postural-control-part-1-8-hours-on-two-half-days-registration-1704359036759
URL:https://masserypt.com/course/linked-breathing-postural-control-part-1-march-2026/
LOCATION:MasseryPT LLC webinar\, Glenview\, Illinois
CATEGORIES:Courses
ORGANIZER;CN="Mark Massery":MAILTO:markmassery@comcast.net
END:VEVENT
BEGIN:VEVENT
DTSTART;TZID=UTC:20260326T000000
DTEND;TZID=UTC:20260327T235959
DTSTAMP:20260421T151815
CREATED:20250130T190150Z
LAST-MODIFIED:20260119T161222Z
UID:11271-1774483200-1774655999@masserypt.com
SUMMARY:Birth to Three Annual Online Conference 2026
DESCRIPTION:The 3rd Annual Conference for Physical Therapists\, Occupational Therapists\, Speech Language Pathologists\, Developmental Therapists and more. This is a two-day live webinar. \n\n\n\nMary Massery is presenting on the morning of March 26\, 2026 \n\n\n\nMary’s presentation: Breathing\, Talking and Postural Control: Why Is This Relationship So Important for B-3 Therapists to Understand? \n\n\n\nConference information and registration: https://educationresourcesinc.com/conference/birth-to-three-annual-conference-2026/
URL:https://masserypt.com/course/birth-to-three-annual-conference-2026/
LOCATION:ONLINE
CATEGORIES:Courses
ORGANIZER;CN="Education Resources Inc.":MAILTO:info@educationresourcesinc.com
END:VEVENT
BEGIN:VEVENT
DTSTART;TZID=UTC:20260328T000000
DTEND;TZID=UTC:20260329T235959
DTSTAMP:20260421T151815
CREATED:20250930T190722Z
LAST-MODIFIED:20250930T192113Z
UID:11443-1774656000-1774828799@masserypt.com
SUMMARY:LINKED: Breathing & Postural Control – PART 2
DESCRIPTION:2-day hands-on LAB DAYS of the 3-day LINKED breathing course \n\n\n\nPrerequisite: LINKED – PART 1 Course / Webinar; or the school-based LINKED course. \n\n\n\nInstructor: Mary Massery\, PT\, DPT\, DSc |Audience: PT\, OT\, SLP |Location: Schwab Rehab\, Chicago |Sponsor: Education Resources\, Inc. | \n\n\n\nContact: Marianne Boynton \n\n\n\nmboynton@educationresourcesinc.com800-487-6530 \n\n\n\nCourse info & registration: https://educationresourcesinc.com/courses/2026-03-28/mary-masserys-linked-breathing-postural-control-part-2-in-person-2-days-2/
URL:https://masserypt.com/course/linked-breathing-postural-control-part-2-schwab-rehab-chicago-march-2026/
LOCATION:ERI at Schwab Rehab\, Chicago\, IL\, Chicago
CATEGORIES:Courses
ORGANIZER;CN="Marianne Boynton at Education Resources Inc":MAILTO:info@educationresourcesinc.com
END:VEVENT
END:VCALENDAR